BEGIN:VCALENDAR
VERSION:2.0
PRODID:SchoolNow
CALSCALE:GREGORIAN
BEGIN:VEVENT
UID:a01dfbf2-d07a-11e8-893e-129493aa6a38
DTSTAMP:20181015T130252Z
SUMMARY:Antioch Youth Basketball Boys & Girls Feeder Team Tryouts for 7 & 8
  Grades
URL;VALUE=URI:https://www.gls36.org/calendar/1889015/antioch-youth-basketba
 ll-boys-girls-feeder-team-tryouts-for-7-8-grades
DTSTART:20181025T003000Z
DTEND:20181025T013000Z
END:VEVENT
END:VCALENDAR
