BEGIN:VCALENDAR
VERSION:2.0
PRODID:SchoolNow
CALSCALE:GREGORIAN
BEGIN:VEVENT
UID:5fc01874-d07a-11e8-b419-1234e85b96e2
DTSTAMP:20181015T130104Z
SUMMARY:Antioch Youth Basketball Boys & Girls Feeder Team Tryouts for 5 & 6
  Grades
URL;VALUE=URI:https://www.gls36.org/calendar/1889014/antioch-youth-basketba
 ll-boys-girls-feeder-team-tryouts-for-5-6-grades
DTSTART:20181024T233000Z
DTEND:20181025T003000Z
END:VEVENT
END:VCALENDAR
