BEGIN:VCALENDAR
VERSION:2.0
PRODID:SchoolNow
CALSCALE:GREGORIAN
BEGIN:VEVENT
UID:20c18a04-d07a-11e8-81ae-0ad53cd18326
DTSTAMP:20181015T125918Z
SUMMARY:Antioch Youth Basketball Boys & Girls Feeder Team Tryouts for 7 & 8
  Grades
URL;VALUE=URI:https://www.gls36.org/calendar/1889013/antioch-youth-basketba
 ll-boys-girls-feeder-team-tryouts-for-7-8-grades
DTSTART:20181022T003000Z
DTEND:20181022T013000Z
END:VEVENT
END:VCALENDAR
