BEGIN:VCALENDAR
VERSION:2.0
PRODID:SchoolNow
CALSCALE:GREGORIAN
BEGIN:VEVENT
UID:e5ee874c-d079-11e8-8b61-0a6e6d303ce6
DTSTAMP:20181015T125740Z
SUMMARY:Antioch Youth Basketball Boys & Girls Feeder Team Tryouts Grade 5 &
  6
URL;VALUE=URI:https://www.gls36.org/calendar/1889012/antioch-youth-basketba
 ll-boys-girls-feeder-team-tryouts-grade-5-6
DTSTART:20181021T233000Z
DTEND:20181022T003000Z
END:VEVENT
END:VCALENDAR
