BEGIN:VCALENDAR
VERSION:2.0
PRODID:SchoolNow
CALSCALE:GREGORIAN
BEGIN:VEVENT
UID:27fdc3d0-ccc6-11e8-aa0c-0afbc0f4f60c
DTSTAMP:20181010T195544Z
SUMMARY:Halloween Parties for Prek PM\, Third Grade\, and Fourth Grade Clas
 ses\, Parade Begins at 1:30 PM
URL;VALUE=URI:https://www.gls36.org/calendar/1886844/halloween-parties-for-
 prek-pm-third-grade-and-fourth-grade-parade-begins-at-1-30-pm
DTSTART:20181031T184500Z
DTEND:20181031T194000Z
END:VEVENT
END:VCALENDAR
