BEGIN:VCALENDAR
VERSION:2.0
PRODID:SchoolNow
CALSCALE:GREGORIAN
BEGIN:VEVENT
UID:a57584a2-ccc5-11e8-b8ad-0abf24308d10
DTSTAMP:20181010T195709Z
SUMMARY:PreK AM Halloween Party
URL;VALUE=URI:https://www.gls36.org/calendar/1886813/prek-am-halloween-part
 y
DTSTART:20181031T153000Z
DTEND:20181031T163000Z
END:VEVENT
END:VCALENDAR
