BEGIN:VCALENDAR
VERSION:2.0
PRODID:SchoolNow
CALSCALE:GREGORIAN
BEGIN:VEVENT
UID:44dfa29e-ccc5-11e8-ab51-1263da301164
DTSTAMP:20181010T200056Z
SUMMARY:Halloween Parties for Kindergarten\, First Grade\, and Second Grade
  Classes\, Parade Begins at 9:15am
URL;VALUE=URI:https://www.gls36.org/calendar/1886700/halloween-parties-for-
 kindergarten-first-grade-and-second-grade-classes
DTSTART:20181031T130000Z
DTEND:20181031T141500Z
END:VEVENT
END:VCALENDAR
