BEGIN:VCALENDAR
VERSION:2.0
PRODID:SchoolNow
CALSCALE:GREGORIAN
BEGIN:VEVENT
UID:4984f3d8-ccb3-11e8-8f39-120e4197f2ea
DTSTAMP:20181010T173823Z
SUMMARY:Winter & Spring Concussion Testing
URL;VALUE=URI:https://www.gls36.org/calendar/1886596/winter-spring-concussi
 on-testing
DTSTART:20181018T194500Z
DTEND:20181018T212500Z
END:VEVENT
END:VCALENDAR
