BEGIN:VCALENDAR
VERSION:2.0
PRODID:SchoolNow
CALSCALE:GREGORIAN
BEGIN:VEVENT
UID:b7fcecfa-ccb1-11e8-91fe-12a8787d0642
DTSTAMP:20181010T172710Z
SUMMARY:Fall Sports Pictures
LOCATION:Multipurpose Room
URL;VALUE=URI:https://www.gls36.org/calendar/1886560/fall-sports-pictures
DTSTART:20181019T194500Z
DTEND:20181019T212500Z
END:VEVENT
END:VCALENDAR
