BEGIN:VCALENDAR
VERSION:2.0
PRODID:SchoolNow
CALSCALE:GREGORIAN
BEGIN:VEVENT
UID:8775bd0a-ccac-11e8-aef7-0a0f6be51ebe
DTSTAMP:20181010T165001Z
SUMMARY:Soccer Away at Big Hollow 4pm
URL;VALUE=URI:https://www.gls36.org/calendar/1886554/soccer-away-at-big-hol
 low-4pm
DTSTART:20181010T210000Z
DTEND:20181010T220000Z
END:VEVENT
END:VCALENDAR
