BEGIN:VCALENDAR
VERSION:2.0
PRODID:SchoolNow
CALSCALE:GREGORIAN
BEGIN:VEVENT
UID:b2b346f2-c89e-11e8-9a22-0a8e23b55a7a
DTSTAMP:20181005T130056Z
SUMMARY:Soccer Home Game vs Alden Hebron @ 4pm
LOCATION:Grass Lake School
URL;VALUE=URI:https://www.gls36.org/calendar/1884685/soccer-home-game-vs-al
 den-hebron-4pm
DTSTART:20181009T210000Z
DTEND:20181009T223000Z
END:VEVENT
END:VCALENDAR
