BEGIN:VCALENDAR
VERSION:2.0
PRODID:SchoolNow
CALSCALE:GREGORIAN
BEGIN:VEVENT
UID:958dd1ea-c7eb-11e8-b482-0a0624e9079e
DTSTAMP:20181004T153847Z
SUMMARY:PTO Meeting
URL;VALUE=URI:https://www.gls36.org/calendar/1883760/pto-meeting
DTSTART:20181115T003000Z
DTEND:20181115T013000Z
END:VEVENT
END:VCALENDAR
