BEGIN:VCALENDAR
VERSION:2.0
PRODID:SchoolNow
CALSCALE:GREGORIAN
BEGIN:VEVENT
UID:a00d4bfc-c7e9-11e8-aa7d-0a0624e9079e
DTSTAMP:20181004T152446Z
SUMMARY:PTO Meeting
URL;VALUE=URI:https://www.gls36.org/calendar/1883758/pto-meeting
DTSTART:20181010T233000Z
DTEND:20181011T003000Z
END:VEVENT
END:VCALENDAR
