BEGIN:VCALENDAR
VERSION:2.0
PRODID:SchoolNow
CALSCALE:GREGORIAN
BEGIN:VEVENT
UID:2083ab1a-c7e9-11e8-b224-0a0624e9079e
DTSTAMP:20181102T185832Z
SUMMARY:Family Painting
URL;VALUE=URI:https://www.gls36.org/calendar/1883754/family-painting
DTSTART:20181111T162000Z
DTEND:20181111T172000Z
END:VEVENT
END:VCALENDAR
