BEGIN:VCALENDAR
VERSION:2.0
PRODID:SchoolNow
CALSCALE:GREGORIAN
BEGIN:VEVENT
UID:f4259a24-c7e8-11e8-b8b0-0a0624e9079e
DTSTAMP:20181016T180908Z
SUMMARY:Trunk or Treat
URL;VALUE=URI:https://www.gls36.org/calendar/1883752/trunk-or-treat
DTSTART:20181026T220000Z
DTEND:20181027T000000Z
END:VEVENT
END:VCALENDAR
