BEGIN:VCALENDAR
VERSION:2.0
PRODID:SchoolNow
CALSCALE:GREGORIAN
BEGIN:VEVENT
UID:f57d05ee-c7e6-11e8-ae1c-0a221f1f6360
DTSTAMP:20181016T180532Z
SUMMARY:Wings Etc. Fundraiser
URL;VALUE=URI:https://www.gls36.org/calendar/1883745/wings-etc-fundraiser
DTSTART;VALUE=DATE:20181019
DTEND;VALUE=DATE:20181022
END:VEVENT
END:VCALENDAR
