BEGIN:VCALENDAR
VERSION:2.0
PRODID:SchoolNow
CALSCALE:GREGORIAN
BEGIN:VEVENT
UID:7d07d07e-c743-11e8-be47-0a3232abcbc8
DTSTAMP:20181126T230828Z
SUMMARY:2018 Book Fair
URL;VALUE=URI:https://www.gls36.org/calendar/1883233/2018-book-fair
DTSTART;VALUE=DATE:20181114
DTEND;VALUE=DATE:20181201
END:VEVENT
END:VCALENDAR
