BEGIN:VCALENDAR
VERSION:2.0
PRODID:SchoolNow
CALSCALE:GREGORIAN
BEGIN:VEVENT
UID:781aea9c-c0cc-11e8-92eb-0a4579c7e28c
DTSTAMP:20180925T153254Z
SUMMARY:PSAT Testing for 8th Grade Students at Lakes Community High School
URL;VALUE=URI:https://www.gls36.org/calendar/1875555/psat-testing-for-8th-g
 rade-students-at-lakes-community-high-school
DTSTART:20181027T123000Z
DTEND:20181027T161500Z
END:VEVENT
END:VCALENDAR
