BEGIN:VCALENDAR
VERSION:2.0
PRODID:SchoolNow
CALSCALE:GREGORIAN
BEGIN:VEVENT
UID:a1cf31a0-c0cb-11e8-a9ee-129af296f1f0
DTSTAMP:20180925T153137Z
SUMMARY:PSAT for 8th Grade Students at Antioch Community High School
URL;VALUE=URI:https://www.gls36.org/calendar/1875547/psat-for-8th-grade-stu
 dents-at-antioch-community-high-school
DTSTART:20180929T123000Z
DTEND:20180929T161500Z
END:VEVENT
END:VCALENDAR
