BEGIN:VCALENDAR
VERSION:2.0
PRODID:SchoolNow
CALSCALE:GREGORIAN
BEGIN:VEVENT
UID:bb25fadc-bb83-11e8-a438-0a219a6f4de4
DTSTAMP:20181017T164543Z
SUMMARY:Fall Break - No School
URL;VALUE=URI:https://www.gls36.org/calendar/1871165/fall-break-no-school
DTSTART;VALUE=DATE:20181121
DTEND;VALUE=DATE:20181124
END:VEVENT
END:VCALENDAR
