BEGIN:VCALENDAR
VERSION:2.0
PRODID:SchoolNow
CALSCALE:GREGORIAN
BEGIN:VEVENT
UID:7f24f326-bb83-11e8-8d4c-0a6645ab65fe
DTSTAMP:20181017T164406Z
SUMMARY:Parent/Teacher Conferences (No School)
URL;VALUE=URI:https://www.gls36.org/calendar/1871163/parent-teacher-confere
 nces-no-school
DTSTART:20181120T140000Z
DTEND:20181120T180000Z
END:VEVENT
END:VCALENDAR
