BEGIN:VCALENDAR
VERSION:2.0
PRODID:SchoolNow
CALSCALE:GREGORIAN
BEGIN:VEVENT
UID:20fc27ce-bb83-11e8-b182-12a4e8ee95dc
DTSTAMP:20181017T163620Z
SUMMARY:Early Dismissal (11:30 AM)
URL;VALUE=URI:https://www.gls36.org/calendar/1871160/parent-teacher-confere
 nces
DTSTART:20181119T134500Z
DTEND:20181119T173000Z
END:VEVENT
END:VCALENDAR
