BEGIN:VCALENDAR
VERSION:2.0
PRODID:SchoolNow
CALSCALE:GREGORIAN
BEGIN:VEVENT
UID:cf6092d8-bb82-11e8-83c3-0a0eb3ccc50a
DTSTAMP:20180918T203833Z
SUMMARY:Early Dismissal
URL;VALUE=URI:https://www.gls36.org/calendar/1871158/early-dismissal
DTSTART:20181128T134500Z
DTEND:20181128T190000Z
END:VEVENT
END:VCALENDAR
