BEGIN:VCALENDAR
VERSION:2.0
PRODID:SchoolNow
CALSCALE:GREGORIAN
BEGIN:VEVENT
UID:25eea602-bb7f-11e8-91d8-0a8cfec8b476
DTSTAMP:20180918T201220Z
SUMMARY:Early Dismissal
URL;VALUE=URI:https://www.gls36.org/calendar/1871078/early-dismissal
DTSTART:20181024T124500Z
DTEND:20181024T180000Z
END:VEVENT
END:VCALENDAR
