BEGIN:VCALENDAR
VERSION:2.0
PRODID:SchoolNow
CALSCALE:GREGORIAN
BEGIN:VEVENT
UID:68b7a3ec-bb7c-11e8-86da-1233d8d4051e
DTSTAMP:20180918T195432Z
SUMMARY:Early Dismissal
URL;VALUE=URI:https://www.gls36.org/calendar/1870846/early-dismissal
DTSTART:20180919T124500Z
DTEND:20180919T180000Z
END:VEVENT
END:VCALENDAR
