BEGIN:VCALENDAR
VERSION:2.0
PRODID:SchoolNow
CALSCALE:GREGORIAN
BEGIN:VEVENT
UID:41fb1180-bb40-11e8-a463-0a75d392da76
DTSTAMP:20180918T124209Z
SUMMARY:Soccer away at Prairie Crossing
URL;VALUE=URI:https://www.gls36.org/calendar/1869924/soccer-away-at-prairie
 -crossing
DTSTART:20181004T210000Z
DTEND:20181004T220000Z
END:VEVENT
END:VCALENDAR
