BEGIN:VCALENDAR
VERSION:2.0
PRODID:SchoolNow
CALSCALE:GREGORIAN
BEGIN:VEVENT
UID:afd957b4-bad4-11e8-b6be-128016e34e1e
DTSTAMP:20180917T235208Z
SUMMARY:Soccer Away at Johnsburg Junior High
URL;VALUE=URI:https://www.gls36.org/calendar/1869782/soccer-away-at-johnsbu
 rg-junior-high
DTSTART:20181001T210000Z
DTEND:20181001T220000Z
END:VEVENT
END:VCALENDAR
