BEGIN:VCALENDAR
VERSION:2.0
PRODID:SchoolNow
CALSCALE:GREGORIAN
BEGIN:VEVENT
UID:f18ae3c6-b142-11e8-8201-0a7c75903502
DTSTAMP:20180905T193720Z
SUMMARY:Expanding your Horizons Lake County
URL;VALUE=URI:https://www.gls36.org/calendar/1855725/expanding-your-horizon
 s-lake-county
DTSTART:20180929T123000Z
DTEND:20180929T173000Z
END:VEVENT
END:VCALENDAR
