BEGIN:VCALENDAR
VERSION:2.0
PRODID:SchoolNow
CALSCALE:GREGORIAN
BEGIN:VEVENT
UID:84c9ada6-b130-11e8-936a-12b0763c0022
DTSTAMP:20180910T200812Z
SUMMARY:School Picture Day
URL;VALUE=URI:https://www.gls36.org/calendar/1855459/school-picture-day
DTSTART:20180919T172300Z
DTEND:20180919T182300Z
END:VEVENT
END:VCALENDAR
