BEGIN:VCALENDAR
VERSION:2.0
PRODID:SchoolNow
CALSCALE:GREGORIAN
BEGIN:VEVENT
UID:63f76dd2-ac73-11e8-9d72-0a2d986c040c
DTSTAMP:20180830T164023Z
SUMMARY:6th - 8th Grade Halloween Dance
URL;VALUE=URI:https://www.gls36.org/calendar/1851089/6th-8th-grade-dhallowe
 en-dance
DTSTART:20181027T000000Z
DTEND:20181027T020000Z
END:VEVENT
END:VCALENDAR
