BEGIN:VCALENDAR
VERSION:2.0
PRODID:SchoolNow
CALSCALE:GREGORIAN
BEGIN:VEVENT
UID:2ca45b1a-ac73-11e8-a464-0af0e2850a52
DTSTAMP:20180830T165214Z
SUMMARY:No Afternoon Tutoring
URL;VALUE=URI:https://www.gls36.org/calendar/1851087/no-afternoon-tutoring
DTSTART;VALUE=DATE:20181031
DTEND;VALUE=DATE:20181101
END:VEVENT
END:VCALENDAR
