BEGIN:VCALENDAR
VERSION:2.0
PRODID:SchoolNow
CALSCALE:GREGORIAN
BEGIN:VEVENT
UID:f77ec556-ac72-11e8-bd1b-12a0c268cc7a
DTSTAMP:20180830T163721Z
SUMMARY:NJHS Candle Ceremony
URL;VALUE=URI:https://www.gls36.org/calendar/1851085/njhs-candle-ceremony
DTSTART:20181024T210000Z
DTEND:20181024T223500Z
END:VEVENT
END:VCALENDAR
