BEGIN:VCALENDAR
VERSION:2.0
PRODID:SchoolNow
CALSCALE:GREGORIAN
BEGIN:VEVENT
UID:2395f372-ac72-11e8-ab3d-12ddc210ab5c
DTSTAMP:20180830T191121Z
SUMMARY:Morning & Afternoon Tutoring Begins
URL;VALUE=URI:https://www.gls36.org/calendar/1851083/morning-afternoon-tuto
 ring-begins
DTSTART:20180910T162900Z
DTEND:20180910T172900Z
END:VEVENT
END:VCALENDAR
