BEGIN:VCALENDAR
VERSION:2.0
PRODID:SchoolNow
CALSCALE:GREGORIAN
BEGIN:VEVENT
UID:d455d0d4-ac71-11e8-8f53-0af0e2850a52
DTSTAMP:20180830T165341Z
SUMMARY:NJHS Applications Due to Ms. Ryan
URL;VALUE=URI:https://www.gls36.org/calendar/1851082/njhs-applications-due-
 to-ms-ryan
DTSTART;VALUE=DATE:20180905
DTEND;VALUE=DATE:20180906
END:VEVENT
END:VCALENDAR
