BEGIN:VCALENDAR
VERSION:2.0
PRODID:SchoolNow
CALSCALE:GREGORIAN
BEGIN:VEVENT
UID:875068da-ab86-11e8-bccd-0a2d3a6e7200
DTSTAMP:20180829T122451Z
SUMMARY:Cross Country Meet at Park
URL;VALUE=URI:https://www.gls36.org/calendar/1849653/cross-country-meet-at-
 park
DTSTART:20180926T090000Z
DTEND:20180926T103000Z
END:VEVENT
END:VCALENDAR
