BEGIN:VCALENDAR
VERSION:2.0
PRODID:SchoolNow
CALSCALE:GREGORIAN
BEGIN:VEVENT
UID:35f381f6-ab0a-11e8-901e-1222a19b420e
DTSTAMP:20180828T213457Z
SUMMARY:Cross Country Meet at Millburn
URL;VALUE=URI:https://www.gls36.org/calendar/1849328/cross-country-meet-at-
 millburn
DTSTART:20180919T213000Z
DTEND:20180919T223000Z
END:VEVENT
END:VCALENDAR
