BEGIN:VCALENDAR
VERSION:2.0
PRODID:SchoolNow
CALSCALE:GREGORIAN
BEGIN:VEVENT
UID:eaf6bab0-ab09-11e8-bed5-1258f5927384
DTSTAMP:20180828T213251Z
SUMMARY:Cross Country Meet @ Stanton
URL;VALUE=URI:https://www.gls36.org/calendar/1849327/cross-country-meet-sta
 nton
DTSTART:20180925T210000Z
DTEND:20180925T220000Z
END:VEVENT
END:VCALENDAR
