BEGIN:VCALENDAR
VERSION:2.0
PRODID:SchoolNow
CALSCALE:GREGORIAN
BEGIN:VEVENT
UID:bbf5a44c-ab09-11e8-89fc-1258f5927384
DTSTAMP:20180828T213133Z
SUMMARY:Cross Country Meet @ Park
URL;VALUE=URI:https://www.gls36.org/calendar/1849326/cross-country-meet-par
 k
DTSTART:20180918T210000Z
DTEND:20180918T220000Z
END:VEVENT
END:VCALENDAR
