BEGIN:VCALENDAR
VERSION:2.0
PRODID:SchoolNow
CALSCALE:GREGORIAN
BEGIN:VEVENT
UID:a7b5fe78-ab09-11e8-a5c9-1258f5927384
DTSTAMP:20180911T161012Z
SUMMARY:Cross Country Meet @ Millburn
URL;VALUE=URI:https://www.gls36.org/calendar/1849325/cross-country-meet-mil
 lburn
DTSTART:20180912T213000Z
DTEND:20180912T223000Z
END:VEVENT
END:VCALENDAR
