BEGIN:VCALENDAR
VERSION:2.0
PRODID:SchoolNow
CALSCALE:GREGORIAN
BEGIN:VEVENT
UID:9a3f2fb2-ab09-11e8-944e-1258f5927384
DTSTAMP:20180911T160950Z
SUMMARY:Cross Country Meet at Big Hollow
URL;VALUE=URI:https://www.gls36.org/calendar/1849324/cross-country-meet-at-
 big-hollow
DTSTART:20180911T210000Z
DTEND:20180911T220000Z
END:VEVENT
END:VCALENDAR
