BEGIN:VCALENDAR
VERSION:2.0
PRODID:SchoolNow
CALSCALE:GREGORIAN
BEGIN:VEVENT
UID:1a97ac96-a62a-11e8-bee1-1264bf68a6d6
DTSTAMP:20180822T164039Z
SUMMARY:1st Day of Boys Basketball & Cheer
URL;VALUE=URI:https://www.gls36.org/calendar/1838410/1st-day-of-boys-basket
 ball-cheer
DTSTART:20181022T194500Z
DTEND:20181022T213000Z
END:VEVENT
END:VCALENDAR
