BEGIN:VCALENDAR
VERSION:2.0
PRODID:SchoolNow
CALSCALE:GREGORIAN
BEGIN:VEVENT
UID:0f159e5a-a62a-11e8-9a80-1264bf68a6d6
DTSTAMP:20180822T164020Z
SUMMARY:Parent Meeting- Basketball & Cheer
URL;VALUE=URI:https://www.gls36.org/calendar/1838409/parent-meeting-basketb
 all-cheer
DTSTART:20181025T213000Z
DTEND:20181025T223000Z
END:VEVENT
END:VCALENDAR
