BEGIN:VCALENDAR
VERSION:2.0
PRODID:SchoolNow
CALSCALE:GREGORIAN
BEGIN:VEVENT
UID:5dac1f2e-a627-11e8-b886-12bae7d0af6e
DTSTAMP:20180822T162315Z
SUMMARY:Volleyball Tournament TBA
URL;VALUE=URI:https://www.gls36.org/calendar/1838400/volleyball-tournament-
 tba
DTSTART:20181015T210000Z
DTEND:20181017T210000Z
END:VEVENT
END:VCALENDAR
