BEGIN:VCALENDAR
VERSION:2.0
PRODID:SchoolNow
CALSCALE:GREGORIAN
BEGIN:VEVENT
UID:e6d45f7e-a626-11e8-9c01-0a2594653b50
DTSTAMP:20181009T131622Z
SUMMARY:Volleyball Home vs Big Hollow
URL;VALUE=URI:https://www.gls36.org/calendar/1838398/volleyball-home-vs-big
 -hollow
DTSTART:20181011T210000Z
DTEND:20181011T220000Z
END:VEVENT
END:VCALENDAR
