BEGIN:VCALENDAR
VERSION:2.0
PRODID:SchoolNow
CALSCALE:GREGORIAN
BEGIN:VEVENT
UID:9828bba4-a626-11e8-8ff3-0a2594653b50
DTSTAMP:20180822T161532Z
SUMMARY:Volleyball Home vs North Prairie
URL;VALUE=URI:https://www.gls36.org/calendar/1838396/volleyball-home-vs-nor
 th-prairie
DTSTART:20181009T210000Z
DTEND:20181009T220000Z
END:VEVENT
END:VCALENDAR
