BEGIN:VCALENDAR
VERSION:2.0
PRODID:SchoolNow
CALSCALE:GREGORIAN
BEGIN:VEVENT
UID:11244e94-a625-11e8-8794-121bb119e4ae
DTSTAMP:20180822T160735Z
SUMMARY:Volleyball Away at Emmons
URL;VALUE=URI:https://www.gls36.org/calendar/1838390/volleyball-at-emmons
DTSTART:20181002T210000Z
DTEND:20181002T220000Z
END:VEVENT
END:VCALENDAR
