BEGIN:VCALENDAR
VERSION:2.0
PRODID:SchoolNow
CALSCALE:GREGORIAN
BEGIN:VEVENT
UID:e0e757ee-a624-11e8-ad56-121bb119e4ae
DTSTAMP:20180822T160315Z
SUMMARY:Soccer Away vs Emmons at ACHS
URL;VALUE=URI:https://www.gls36.org/calendar/1838387/soccer-away-vs-emmons-
 at-achs
DTSTART:20181002T213000Z
DTEND:20181002T223000Z
END:VEVENT
END:VCALENDAR
