BEGIN:VCALENDAR
VERSION:2.0
PRODID:SchoolNow
CALSCALE:GREGORIAN
BEGIN:VEVENT
UID:7d070832-a624-11e8-8257-121bb119e4ae
DTSTAMP:20180917T202423Z
SUMMARY:Soccer Home vs. Gavin South
URL;VALUE=URI:https://www.gls36.org/calendar/1838384/soccer-home-vs-gavin-s
 outh
DTSTART:20181003T210000Z
DTEND:20181003T220000Z
END:VEVENT
END:VCALENDAR
