BEGIN:VCALENDAR
VERSION:2.0
PRODID:SchoolNow
CALSCALE:GREGORIAN
BEGIN:VEVENT
UID:6f5e8c74-a4e3-11e8-93bd-12cd902a1788
DTSTAMP:20180821T014216Z
SUMMARY:Volleyball Home vs Gavin South
URL;VALUE=URI:https://www.gls36.org/calendar/1837313/volleyball-home-vs-gav
 in-south
DTSTART:20180927T210000Z
DTEND:20180927T220000Z
END:VEVENT
END:VCALENDAR
