BEGIN:VCALENDAR
VERSION:2.0
PRODID:SchoolNow
CALSCALE:GREGORIAN
BEGIN:VEVENT
UID:3d86373e-a4e2-11e8-a95a-12cd902a1788
DTSTAMP:20180821T013343Z
SUMMARY:Volleyball Home vs Alden Hebron
URL;VALUE=URI:https://www.gls36.org/calendar/1837309/volleyball-home-vs-ald
 en-hebron
DTSTART:20180925T210000Z
DTEND:20180925T220000Z
END:VEVENT
END:VCALENDAR
